BEGIN:VCALENDAR
PRODID:-//Ben Fortuna//iCal4j 1.0//EN
VERSION:2.0
CALSCALE:GREGORIAN
BEGIN:VTIMEZONE
TZID:Europe/Berlin
LAST-MODIFIED:20201010T011803Z
TZURL:http://tzurl.org/zoneinfo/Europe/Berlin
X-LIC-LOCATION:Europe/Berlin
X-PROLEPTIC-TZNAME:LMT
BEGIN:STANDARD
TZNAME:CET
TZOFFSETFROM:+005328
TZOFFSETTO:+0100
DTSTART:18930401T000000
END:STANDARD
BEGIN:DAYLIGHT
TZNAME:CEST
TZOFFSETFROM:+0100
TZOFFSETTO:+0200
DTSTART:19160430T230000
RDATE:19400401T020000
RDATE:19430329T020000
RDATE:19460414T020000
RDATE:19470406T030000
RDATE:19480418T020000
RDATE:19490410T020000
RDATE:19800406T020000
END:DAYLIGHT
BEGIN:STANDARD
TZNAME:CET
TZOFFSETFROM:+0200
TZOFFSETTO:+0100
DTSTART:19161001T010000
RDATE:19421102T030000
RDATE:19431004T030000
RDATE:19441002T030000
RDATE:19451118T030000
RDATE:19461007T030000
END:STANDARD
BEGIN:DAYLIGHT
TZNAME:CEST
TZOFFSETFROM:+0100
TZOFFSETTO:+0200
DTSTART:19170416T020000
RRULE:FREQ=YEARLY;UNTIL=19180415T010000Z;BYMONTH=4;BYDAY=3MO
END:DAYLIGHT
BEGIN:STANDARD
TZNAME:CET
TZOFFSETFROM:+0200
TZOFFSETTO:+0100
DTSTART:19170917T030000
RRULE:FREQ=YEARLY;UNTIL=19180916T010000Z;BYMONTH=9;BYDAY=3MO
END:STANDARD
BEGIN:DAYLIGHT
TZNAME:CEST
TZOFFSETFROM:+0100
TZOFFSETTO:+0200
DTSTART:19440403T020000
RRULE:FREQ=YEARLY;UNTIL=19450402T010000Z;BYMONTH=4;BYDAY=1MO
END:DAYLIGHT
BEGIN:DAYLIGHT
TZNAME:CEMT
TZOFFSETFROM:+0200
TZOFFSETTO:+0300
DTSTART:19450524T020000
RDATE:19470511T030000
END:DAYLIGHT
BEGIN:DAYLIGHT
TZNAME:CEST
TZOFFSETFROM:+0300
TZOFFSETTO:+0200
DTSTART:19450924T030000
RDATE:19470629T030000
END:DAYLIGHT
BEGIN:STANDARD
TZNAME:CET
TZOFFSETFROM:+0100
TZOFFSETTO:+0100
DTSTART:19460101T000000
RDATE:19800101T000000
END:STANDARD
BEGIN:STANDARD
TZNAME:CET
TZOFFSETFROM:+0200
TZOFFSETTO:+0100
DTSTART:19471005T030000
RRULE:FREQ=YEARLY;UNTIL=19491002T010000Z;BYMONTH=10;BYDAY=1SU
END:STANDARD
BEGIN:STANDARD
TZNAME:CET
TZOFFSETFROM:+0200
TZOFFSETTO:+0100
DTSTART:19800928T030000
RRULE:FREQ=YEARLY;UNTIL=19950924T010000Z;BYMONTH=9;BYDAY=-1SU
END:STANDARD
BEGIN:DAYLIGHT
TZNAME:CEST
TZOFFSETFROM:+0100
TZOFFSETTO:+0200
DTSTART:19810329T020000
RRULE:FREQ=YEARLY;BYMONTH=3;BYDAY=-1SU
END:DAYLIGHT
BEGIN:STANDARD
TZNAME:CET
TZOFFSETFROM:+0200
TZOFFSETTO:+0100
DTSTART:19961027T030000
RRULE:FREQ=YEARLY;BYMONTH=10;BYDAY=-1SU
END:STANDARD
END:VTIMEZONE
BEGIN:VEVENT
DTSTAMP:20260423T134652Z
DTSTART;TZID=Europe/Berlin:20260426T183000
DTEND;TZID=Europe/Berlin:20260426T193000
SUMMARY:Musik zumTagesausklang 
CREATED:20260220T164351Z
LAST-MODIFIED:20260220T165508Z
DESCRIPTION:\"Céllage à Deux trifft Orgel\"\n\n\n\nWerke für zwei Violonc
 elli und Orgel aus drei Jahrhunderten\n\nAngela Simons und Sonja Lehrke\
 , Violoncello\n\nRalf Hansjosten\, Orgel\n\nNach dem Konzert besteht die
  Möglichkeit\, bei einem guten Glas Wein den Abend im Gespräch mit den K
 ünstlerinnen und Künstlern ausklingen zu lassen.
LOCATION:Pfarrkirche St. Laurentius
X-LOCATION-NAME:Pfarrkirche St. Laurentius
X-STREET-ADDRESS:Maximinstrasse
X-ORGANIZER-NAME:Ortsgemeinde
X-ORGANIZER-ADDRESS-COUNTRY:Deutschland
X-ORGANIZER-ADDRESS-POSTALCODE:54340
X-ORGANIZER-ADDRESS-LOCALITY:Longuich
X-ORGANIZER-ADDRESS-STREET:Maximinstrasse 18
X-ORGANIZER-GEO:49.807735\;6.7720284
CONTACT:FEMALE Katharina   Zey-Wortmann\,0651-99372715
X-CONTACT-SALUTATION:FEMALE
X-CONTACT-GIVEN-NAME:Katharina  
X-CONTACT-FAMILY-NAME:Zey-Wortmann
X-CONTACT-TELEPHONE:0651-99372715
X-CONTACT-ADDRESS-COUNTRY:Deutschland
X-CONTACT-ADDRESS-POSTALCODE:54290
X-CONTACT-ADDRESS-LOCALITY:Trier
X-CONTACT-ADDRESS-STREET:Weberbach 178
X-IONAS-CATEGORY:Veranstaltung
CATEGORIES:Veranstaltung,Konzert
ATTACH;FMTTYPE=image/jpeg:https://longuich.de/bilder/fotos-veranstaltunge
 n/flyer-1-halbjahr-2026.jpg?cid=74s4.n12v
UID:09e9de69-fc46-4ad2-8f9b-09473d74b524
END:VEVENT
END:VCALENDAR
